BEGIN:VCALENDAR
VERSION:2.0
PRODID:-//wp-events-plugin.com//7.2.3.1b//EN
TZID:Europe/Berlin
X-WR-TIMEZONE:Europe/Berlin
BEGIN:VEVENT
UID:135@selk-ost.de
DTSTART;TZID=Europe/Berlin;VALUE=DATE:20261115
DTEND;TZID=Europe/Berlin;VALUE=DATE:20261116
DTSTAMP:20250609T140928Z
URL:https://selk-ost.de/events/vorletzter-sonntag-2/
SUMMARY:Vorletzter Sonntag
DESCRIPTION:
CATEGORIES:Kirchenjahreskalender
END:VEVENT
BEGIN:VTIMEZONE
TZID:Europe/Berlin
X-LIC-LOCATION:Europe/Berlin
BEGIN:STANDARD
DTSTART:20261025T020000
TZOFFSETFROM:+0200
TZOFFSETTO:+0100
TZNAME:CET
END:STANDARD
END:VTIMEZONE
END:VCALENDAR