BEGIN:VCALENDAR
VERSION:2.0
PRODID:-//wp-events-plugin.com//7.2.3.1b//EN
TZID:Europe/Berlin
X-WR-TIMEZONE:Europe/Berlin
BEGIN:VEVENT
UID:896@selk-ost.de
DTSTART;TZID=Europe/Berlin:20260404T120000
DTEND;TZID=Europe/Berlin:20260404T140000
DTSTAMP:20260224T220531Z
URL:https://selk-ost.de/events/taufunterricht-gespraechskreis-und-bibelstu
 nde-2026-04-04/
SUMMARY:Taufunterricht\, Gesprächskreis und Bibelstunde
DESCRIPTION:
CATEGORIES:Leipzig
LOCATION:Chemnitz - Emmanuel Church\, Reitbahnstr. 82\, 09111 Chemnitz\, Sa
 chsen\, Deutschland
GEO:50.825935;12.925637
X-APPLE-STRUCTURED-LOCATION;VALUE=URI;X-ADDRESS=Reitbahnstr. 82\, 09111 Che
 mnitz\, Sachsen\, Deutschland;X-APPLE-RADIUS=100;X-TITLE=Chemnitz - Emmanu
 el Church:geo:50.825935,12.925637
END:VEVENT
BEGIN:VTIMEZONE
TZID:Europe/Berlin
X-LIC-LOCATION:Europe/Berlin
BEGIN:DAYLIGHT
DTSTART:20260329T030000
TZOFFSETFROM:+0100
TZOFFSETTO:+0200
TZNAME:CEST
END:DAYLIGHT
END:VTIMEZONE
END:VCALENDAR