BEGIN:VCALENDAR
VERSION:2.0
PRODID:-//wp-events-plugin.com//7.2.3.1b//EN
TZID:Europe/Berlin
X-WR-TIMEZONE:Europe/Berlin
BEGIN:VEVENT
UID:173@selk-ost.de
DTSTART;TZID=Europe/Berlin;VALUE=DATE:20270516
DTEND;TZID=Europe/Berlin;VALUE=DATE:20270517
DTSTAMP:20250609T140929Z
URL:https://selk-ost.de/events/pfingstsonntag-3/
SUMMARY:Pfingstsonntag
DESCRIPTION:
CATEGORIES:Kirchenjahreskalender
END:VEVENT
BEGIN:VTIMEZONE
TZID:Europe/Berlin
X-LIC-LOCATION:Europe/Berlin
BEGIN:DAYLIGHT
DTSTART:20270328T030000
TZOFFSETFROM:+0100
TZOFFSETTO:+0200
TZNAME:CEST
END:DAYLIGHT
END:VTIMEZONE
END:VCALENDAR