BEGIN:VCALENDAR
VERSION:2.0
PRODID:-//wp-events-plugin.com//7.2.3.1b//EN
TZID:Europe/Berlin
X-WR-TIMEZONE:Europe/Berlin
BEGIN:VEVENT
UID:667@selk-ost.de
DTSTART;TZID=Europe/Berlin:20260426T093000
DTEND;TZID=Europe/Berlin:20260426T113000
DTSTAMP:20260309T171245Z
URL:https://selk-ost.de/events/gottesdienst-mit-predigt-und-hl-abendmahl-2
 2/
SUMMARY:Gottesdienst mit Predigt und HL.Abendmahl
DESCRIPTION:Liturg:\nPrediger:\nOrganist: Sebastian Wenz\nKiGo-Leiter: Chri
 stiane Braunreuther\nPosaunenchorleiter: \nKüster:\nStream: Diego Leipnit
 z, Robert Junge\n
CATEGORIES:Dresden
LOCATION:Dresden - St.-Petri-Kirche\, Großenhainer Platz\, 01097 Dresden\,
  Sachsen\, Deutschland
GEO:51.072989;13.735889
X-APPLE-STRUCTURED-LOCATION;VALUE=URI;X-ADDRESS=Großenhainer Platz\, 01097
  Dresden\, Sachsen\, Deutschland;X-APPLE-RADIUS=100;X-TITLE=Dresden - St.-
 Petri-Kirche:geo:51.072989,13.735889
END:VEVENT
BEGIN:VTIMEZONE
TZID:Europe/Berlin
X-LIC-LOCATION:Europe/Berlin
BEGIN:DAYLIGHT
DTSTART:20260329T030000
TZOFFSETFROM:+0100
TZOFFSETTO:+0200
TZNAME:CEST
END:DAYLIGHT
END:VTIMEZONE
END:VCALENDAR