BEGIN:VCALENDAR
VERSION:2.0
PRODID:-//wp-events-plugin.com//7.2.3.1b//EN
TZID:Europe/Berlin
X-WR-TIMEZONE:Europe/Berlin
BEGIN:VEVENT
UID:338@selk-ost.de
DTSTART;TZID=Europe/Berlin;VALUE=DATE:20291125
DTEND;TZID=Europe/Berlin;VALUE=DATE:20291126
DTSTAMP:20250609T140933Z
URL:https://selk-ost.de/events/ewigkeitssonntag-5/
SUMMARY:Ewigkeitssonntag
DESCRIPTION:
CATEGORIES:Kirchenjahreskalender
END:VEVENT
BEGIN:VTIMEZONE
TZID:Europe/Berlin
X-LIC-LOCATION:Europe/Berlin
BEGIN:STANDARD
DTSTART:20291028T020000
TZOFFSETFROM:+0200
TZOFFSETTO:+0100
TZNAME:CET
END:STANDARD
END:VTIMEZONE
END:VCALENDAR