BEGIN:VCALENDAR
VERSION:2.0
PRODID:-//wp-events-plugin.com//7.2.3.1b//EN
TZID:Europe/Berlin
X-WR-TIMEZONE:Europe/Berlin
BEGIN:VEVENT
UID:1035@selk-ost.de
DTSTART;TZID=Europe/Berlin:20261121T100000
DTEND;TZID=Europe/Berlin:20261121T153000
DTSTAMP:20260417T210621Z
URL:https://selk-ost.de/events/eroeffnungsprobe-grosses-saengerfest-lausit
 z/
SUMMARY:Eröffnungsprobe Großes Sängerfest (Lausitz)
DESCRIPTION:Alle Sänger der Lausitz sind herzlich zur ersten Gruppenprobe 
 für das Große Sängerfest eingeladen. Dieses findet vom 11.-13. Juni 202
 7 in Leipzig statt. Wir lernen gemeinsam das Programm kennen.
CATEGORIES:Kirchenbezirk Lausitz
LOCATION:Weigersdorf - St. Trinitatisgemeinde\, Hauptstraße 52\, 02906 Hoh
 endubrau\, Sachsen\, Deutschland
GEO:51.265266;14.646084
X-APPLE-STRUCTURED-LOCATION;VALUE=URI;X-ADDRESS=Hauptstraße 52\, 02906 Hoh
 endubrau\, Sachsen\, Deutschland;X-APPLE-RADIUS=100;X-TITLE=Weigersdorf - 
 St. Trinitatisgemeinde:geo:51.265266,14.646084
END:VEVENT
BEGIN:VTIMEZONE
TZID:Europe/Berlin
X-LIC-LOCATION:Europe/Berlin
BEGIN:STANDARD
DTSTART:20261025T020000
TZOFFSETFROM:+0200
TZOFFSETTO:+0100
TZNAME:CET
END:STANDARD
END:VTIMEZONE
END:VCALENDAR