BEGIN:VCALENDAR
VERSION:2.0
PRODID:-//wp-events-plugin.com//7.2.3.1b//EN
TZID:Europe/Berlin
X-WR-TIMEZONE:Europe/Berlin
BEGIN:VEVENT
UID:647@selk-ost.de
DTSTART;TZID=Europe/Berlin:20260630T173000
DTEND;TZID=Europe/Berlin:20260630T183000
DTSTAMP:20260102T101819Z
URL:https://selk-ost.de/events/blasen-diako/
SUMMARY:Blasen Diako
DESCRIPTION:Leitung: Jonathan Voigt\nFahrdienst Günther: Ulrich Schroeder\
 n
ATTACH;FMTTYPE=image/jpeg:https://selk-ost.de/wp-content/uploads/2024/06/s
 t-petri-kirche.jpg
CATEGORIES:Dresden
LOCATION:Diako Dresden\, Holzhofgasse 10\, Dresden\, 01099 \, Deutschland
GEO:51.062548;13.760487
X-APPLE-STRUCTURED-LOCATION;VALUE=URI;X-ADDRESS=Holzhofgasse 10\, Dresden\,
  01099 \, Deutschland;X-APPLE-RADIUS=100;X-TITLE=Diako Dresden:geo:51.0625
 48,13.760487
END:VEVENT
BEGIN:VTIMEZONE
TZID:Europe/Berlin
X-LIC-LOCATION:Europe/Berlin
BEGIN:DAYLIGHT
DTSTART:20260329T030000
TZOFFSETFROM:+0100
TZOFFSETTO:+0200
TZNAME:CEST
END:DAYLIGHT
END:VTIMEZONE
END:VCALENDAR