BEGIN:VCALENDAR
VERSION:2.0
PRODID:-//wp-events-plugin.com//7.2.3.1b//EN
TZID:Europe/Berlin
X-WR-TIMEZONE:Europe/Berlin
BEGIN:VEVENT
UID:295@selk-ost.de
DTSTART;TZID=Europe/Berlin;VALUE=DATE:20290325
DTEND;TZID=Europe/Berlin;VALUE=DATE:20290326
DTSTAMP:20250609T140932Z
URL:https://selk-ost.de/events/6-so-d-passionszeit-5/
SUMMARY:6. So. d. Passionszeit
DESCRIPTION:
CATEGORIES:Kirchenjahreskalender
END:VEVENT
BEGIN:VTIMEZONE
TZID:Europe/Berlin
X-LIC-LOCATION:Europe/Berlin
BEGIN:STANDARD
DTSTART:20281029T020000
TZOFFSETFROM:+0200
TZOFFSETTO:+0100
TZNAME:CET
END:STANDARD
BEGIN:DAYLIGHT
DTSTART:20290325T030000
TZOFFSETFROM:+0100
TZOFFSETTO:+0200
TZNAME:CEST
END:DAYLIGHT
END:VTIMEZONE
END:VCALENDAR