BEGIN:VCALENDAR
VERSION:2.0
PRODID:-//wp-events-plugin.com//7.2.3.1b//EN
TZID:Europe/Berlin
X-WR-TIMEZONE:Europe/Berlin
BEGIN:VEVENT
UID:220@selk-ost.de
DTSTART;TZID=Europe/Berlin;VALUE=DATE:20280206
DTEND;TZID=Europe/Berlin;VALUE=DATE:20280207
DTSTAMP:20250609T140930Z
URL:https://selk-ost.de/events/4-so-v-d-passionszeit-2/
SUMMARY:4. So. v.d. Passionszeit
DESCRIPTION:
CATEGORIES:Kirchenjahreskalender
END:VEVENT
BEGIN:VTIMEZONE
TZID:Europe/Berlin
X-LIC-LOCATION:Europe/Berlin
BEGIN:STANDARD
DTSTART:20271031T020000
TZOFFSETFROM:+0200
TZOFFSETTO:+0100
TZNAME:CET
END:STANDARD
END:VTIMEZONE
END:VCALENDAR