BEGIN:VCALENDAR
VERSION:2.0
PRODID:-//wp-events-plugin.com//7.2.3.1b//EN
TZID:Europe/Berlin
X-WR-TIMEZONE:Europe/Berlin
BEGIN:VEVENT
UID:198@selk-ost.de
DTSTART;TZID=Europe/Berlin;VALUE=DATE:20271024
DTEND;TZID=Europe/Berlin;VALUE=DATE:20271025
DTSTAMP:20250609T140930Z
URL:https://selk-ost.de/events/22-so-n-trinitatis-2/
SUMMARY:22. So. n. Trinitatis
DESCRIPTION:
CATEGORIES:Kirchenjahreskalender
END:VEVENT
BEGIN:VTIMEZONE
TZID:Europe/Berlin
X-LIC-LOCATION:Europe/Berlin
BEGIN:DAYLIGHT
DTSTART:20270328T030000
TZOFFSETFROM:+0100
TZOFFSETTO:+0200
TZNAME:CEST
END:DAYLIGHT
END:VTIMEZONE
END:VCALENDAR