BEGIN:VCALENDAR
VERSION:2.0
PRODID:-//wp-events-plugin.com//7.2.3.1b//EN
TZID:Europe/Berlin
X-WR-TIMEZONE:Europe/Berlin
BEGIN:VEVENT
UID:267@selk-ost.de
DTSTART;TZID=Europe/Berlin;VALUE=DATE:20281105
DTEND;TZID=Europe/Berlin;VALUE=DATE:20281106
DTSTAMP:20250609T140931Z
URL:https://selk-ost.de/events/21-so-n-trinitatis-3/
SUMMARY:21. So. n. Trinitatis
DESCRIPTION:
CATEGORIES:Kirchenjahreskalender
END:VEVENT
BEGIN:VTIMEZONE
TZID:Europe/Berlin
X-LIC-LOCATION:Europe/Berlin
BEGIN:STANDARD
DTSTART:20281029T020000
TZOFFSETFROM:+0200
TZOFFSETTO:+0100
TZNAME:CET
END:STANDARD
END:VTIMEZONE
END:VCALENDAR